BEGIN:VCALENDAR
VERSION:2.0
PRODID:-//hacksw/handcal//NONSGML v1.0//EN
BEGIN:VEVENT
DTSTAMP:20260505T150000Z
DTSTART:20260505T150000Z
DTEND:20260505T170000Z
LOCATION:Treffpunkt Landtag NRW, Platz des Landtages 1, 40002 Düsseldorf, Deutschland
SUMMARY:Landtags-Besuch mit Marco Schmitz, MdL
END:VEVENT
END:VCALENDAR
